BEGIN:VCALENDAR
VERSION:2.0
PRODID:-//Lifesaving Society Manitoba - ECPv6.15.20//NONSGML v1.0//EN
CALSCALE:GREGORIAN
METHOD:PUBLISH
X-WR-CALNAME:Lifesaving Society Manitoba
X-ORIGINAL-URL:https://lifesaving.mb.ca
X-WR-CALDESC:Events for Lifesaving Society Manitoba
REFRESH-INTERVAL;VALUE=DURATION:PT1H
X-Robots-Tag:noindex
X-PUBLISHED-TTL:PT1H
BEGIN:VTIMEZONE
TZID:America/Winnipeg
BEGIN:DAYLIGHT
TZOFFSETFROM:-0600
TZOFFSETTO:-0500
TZNAME:CDT
DTSTART:20250309T080000
END:DAYLIGHT
BEGIN:STANDARD
TZOFFSETFROM:-0500
TZOFFSETTO:-0600
TZNAME:CST
DTSTART:20251102T070000
END:STANDARD
BEGIN:DAYLIGHT
TZOFFSETFROM:-0600
TZOFFSETTO:-0500
TZNAME:CDT
DTSTART:20260308T080000
END:DAYLIGHT
BEGIN:STANDARD
TZOFFSETFROM:-0500
TZOFFSETTO:-0600
TZNAME:CST
DTSTART:20261101T070000
END:STANDARD
BEGIN:DAYLIGHT
TZOFFSETFROM:-0600
TZOFFSETTO:-0500
TZNAME:CDT
DTSTART:20270314T080000
END:DAYLIGHT
BEGIN:STANDARD
TZOFFSETFROM:-0500
TZOFFSETTO:-0600
TZNAME:CST
DTSTART:20271107T070000
END:STANDARD
END:VTIMEZONE
BEGIN:VEVENT
DTSTART;VALUE=DATE:20260416
DTEND;VALUE=DATE:20260427
DTSTAMP:20260418T192841
CREATED:20260225T173322Z
LAST-MODIFIED:20260225T173322Z
UID:5012-1776297600-1777247999@lifesaving.mb.ca
SUMMARY:National Lifeguard Instructor Course
DESCRIPTION:  \n \nCourse Dates:  \nApril 16\, 18\, 19\, 25\, 26 \nEarly Bird Registration Price: $550.00 – effective until March 22\, 2026. After March 22\, the registration fee will be $575.00 \nNOTE: Final Deadline for registration is Wednesday April 8\, 2026 \nNational Lifeguard Instructor\n\n\nPre-requisites \nPre-requisites: \n\nNational Lifeguard any stream by first day of course\nLifesaving Instructor by first day of course\nIf from another province may need to have successfully completed an Examination Standards Clinic or have current Lifesaving Examiner Appointment by first day of course\n\nNational Lifeguard Instructors are experienced lifeguards and instructors who are ready to train the next generation of aquatic professionals. They learn the ins and outs of the National Lifeguard program and learn what it takes to run successful courses and recertification examinations. \nIn Manitoba\, our National Lifeguard Instructor course also includes Oxygen Administration and HCP Instructor certifications for successful candidates who have a Lifesaving First Aid Instructor by the first day of the course. \nSuccessful completion of the National Lifeguard Instructor Course enables you to teach National Lifeguard courses. \n\n\nTo register click here.
URL:https://lifesaving.mb.ca/event/national-lifeguard-instructor-course-3/
END:VEVENT
BEGIN:VEVENT
DTSTART;TZID=America/Winnipeg:20260421T180000
DTEND;TZID=America/Winnipeg:20260421T193000
DTSTAMP:20260418T192841
CREATED:20260225T165903Z
LAST-MODIFIED:20260415T203900Z
UID:4999-1776794400-1776799800@lifesaving.mb.ca
SUMMARY:Annual General Meeting (Virtual)
DESCRIPTION:The AGM is a chance for members of the Society to receive a report on the activities of the organization over the past year. \nWe invite all Lifesaving Society Manitoba members to our Annual General Meeting (AGM). \nAnyone who holds Lifesaving Instructor\, Examiner\, Trainer or National Lifeguard awards and are 18 or older is a voting member of Lifesaving Society Manitoba. \nAgenda items at the Annual General Meeting will include: \n\nReports from the Board and Executive Director\nReview of the Audited Financial Statements and Appointment of Auditor\nElection of Board of Directors\n\nIf you are interested in attending\, please contact us at info@lifesaving.mb.ca.
URL:https://lifesaving.mb.ca/event/annual-general-meeting-2/
END:VEVENT
BEGIN:VEVENT
DTSTART;VALUE=DATE:20260515
DTEND;VALUE=DATE:20260516
DTSTAMP:20260418T192841
CREATED:20260225T165536Z
LAST-MODIFIED:20260225T165536Z
UID:4997-1778803200-1778889599@lifesaving.mb.ca
SUMMARY:Wear Your Lifejacket to Work Day
DESCRIPTION:Wear Your Life Jacket to Work Day is part of the Safe Boating Campaign\, aimed at raising awareness about the importance of wearing life jackets while boating. This fun event encourages participants to wear their life jackets in various work environments\, whether in the office\, at home\, or on the water. It serves as a reminder of the critical role life jackets play in preventing drowning incidents during recreational boating activities.
URL:https://lifesaving.mb.ca/event/wear-your-lifejacket-to-work-day/
END:VEVENT
BEGIN:VEVENT
DTSTART;VALUE=DATE:20260516
DTEND;VALUE=DATE:20260523
DTSTAMP:20260418T192841
CREATED:20260225T162552Z
LAST-MODIFIED:20260225T162552Z
UID:4983-1778889600-1779494399@lifesaving.mb.ca
SUMMARY:Safe Boating Awareness Week
DESCRIPTION:Safe Boating Awareness Week is a week-long event that emphasizes the importance of boating safety and responsible practices. It serves as a reminder for boaters to prioritize safety through public awareness about boating safety and an emphasis on the importance of safe and responsible boating practices. The week is recognized by boating communities worldwide and is a critical initiative that saves lives by educating boaters on the best safety practices.
URL:https://lifesaving.mb.ca/event/safe-boating-awareness-week/
END:VEVENT
BEGIN:VEVENT
DTSTART;VALUE=DATE:20260719
DTEND;VALUE=DATE:20260727
DTSTAMP:20260418T192841
CREATED:20260225T163418Z
LAST-MODIFIED:20260225T163418Z
UID:4985-1784419200-1785110399@lifesaving.mb.ca
SUMMARY:National Drowning Prevention Week
DESCRIPTION:National Drowning Prevention Week (NDPW) is held annually during the third week of July\, coinciding with World Drowning Prevention Day on July 25. \nHow to Participate\nCommunity Events: \n\n Organize or attend: Local water safety demonstrations\, swimming lessons\, or CPR training sessions.\n Social Media Campaigns: Share water safety tips and statistics using hashtags like #NDPW2026\n Advocacy: Request a mayoral proclamation to officially recognize National Drowning Prevention Week in your city or town.\n Education: Teach children and adults about safe swimming practices\, life jacket use\, and emergency response skills.\n Support Organizations: Donate or volunteer with Lifesaving Society Manitoba.\n\nMore information to be announced…
URL:https://lifesaving.mb.ca/event/national-drowning-prevention-week-2/
END:VEVENT
BEGIN:VEVENT
DTSTART;TZID=America/Winnipeg:20260724T190000
DTEND;TZID=America/Winnipeg:20260724T190000
DTSTAMP:20260418T192841
CREATED:20260225T171256Z
LAST-MODIFIED:20260225T171420Z
UID:5002-1784919600-1784919600@lifesaving.mb.ca
SUMMARY:Winnipeg Goldeyes Game Sponsored by Lifesaving Society Manitoba
DESCRIPTION:Join Lifesaving Society Manitoba as we cheer on the Winnipeg Goldeyes during National Drowning Prevention Week. Come hear our drowning prevention messages and contribute to the Goldeyes’ 50 50 draw. A portion of the proceeds go towards drowning prevention initiatives. Watch as Buddy the Lifeguard Dog throws out the first pitch!
URL:https://lifesaving.mb.ca/event/winnipeg-goldeyes-game-sponsored-by-lifesaving-society-manitoba/
LOCATION:Blue Cross Park\, 1 Portage Avenue East\, Winnipeg\, Manitoba\, R3B3N3\, Canada
END:VEVENT
BEGIN:VEVENT
DTSTART;VALUE=DATE:20260725
DTEND;VALUE=DATE:20260726
DTSTAMP:20260418T192841
CREATED:20260225T164453Z
LAST-MODIFIED:20260225T164528Z
UID:4991-1784937600-1785023999@lifesaving.mb.ca
SUMMARY:World Drowning Prevention Day
DESCRIPTION:World Drowning Prevention Day is a global event aimed at raising awareness about the preventable nature of drowning and the urgent need for action to improve water safety. It is observed annually on July 25 and is a result of the UN General Assembly’s resolution on global drowning prevention. The day serves as an opportunity to highlight the tragic impact of drowning on families and communities and to offer lifesaving solutions to prevent it. The event encourages all stakeholders\, including governments\, UN agencies\, civil society organizations\, the private sector\, academia\, and individuals\, to participate in coordinated and multi-sectoral action to improve water safety and reduce preventable deaths. \nHow to Participate\nCommunity Events: \n\n Organize or attend: Local water safety demonstrations\, swimming lessons\, or CPR training sessions.\n Social Media Campaigns: Share water safety tips and statistics.\n Education: Teach children and adults about safe swimming practices\, life jacket use\, and emergency response skills.\n Support Organizations: Donate or volunteer with Lifesaving Society Manitoba.
URL:https://lifesaving.mb.ca/event/world-drowning-prevention-day-2/
END:VEVENT
BEGIN:VEVENT
DTSTART;VALUE=DATE:20260731
DTEND;VALUE=DATE:20260804
DTSTAMP:20260418T192841
CREATED:20260225T164945Z
LAST-MODIFIED:20260225T164945Z
UID:4994-1785456000-1785801599@lifesaving.mb.ca
SUMMARY:2025 Boat Sober – August Long Weekend
DESCRIPTION:Boating while intoxicated is a factor in many boating fatalities/drowning deaths every year in Manitoba. \nTo raise awareness and reduce impairment-related deaths\, Lifesaving Society Manitoba and the Canadian Safe Boating Council are stressing the importance of Boating Sober.  The campaign is supported by Manitoba RCMP\, the Winnipeg Police Service\, the Winnipeg Fire Paramedic Service\, and MADD Winnipeg. \nWith the summer boating season in high gear\, the August 1st – August 3rd long weekend is the perfect time to remind Canadian boaters about the need to Boat Sober.  Combined with sun\, wind\, waves and the rocking motion of the boat\, the effects of alcohol\, prescription medication\, and recreational drugs on the water can be greatly increased. \nOperation Dry Water – Boat Sober is aimed at reducing the number of impairment-related accidents and fatalities on the water while fostering a stronger and more visible deterrent to alcohol and drug use while boating. The end goal is to achieve safer and more enjoyable recreational boating. \nFor more information\, visit www.csbc.ca www.betterboater.ca and www.lifesaving.mb.ca.
URL:https://lifesaving.mb.ca/event/2025-boat-sober-august-long-weekend/
END:VEVENT
END:VCALENDAR